BEGIN:VCALENDAR
VERSION:2.0
PRODID:-//Arts In Muskoka - ECPv6.15.17.1//NONSGML v1.0//EN
CALSCALE:GREGORIAN
METHOD:PUBLISH
X-WR-CALNAME:Arts In Muskoka
X-ORIGINAL-URL:https://www.artsinmuskoka.com
X-WR-CALDESC:Events for Arts In Muskoka
REFRESH-INTERVAL;VALUE=DURATION:PT1H
X-Robots-Tag:noindex
X-PUBLISHED-TTL:PT1H
BEGIN:VTIMEZONE
TZID:America/New_York
BEGIN:DAYLIGHT
TZOFFSETFROM:-0500
TZOFFSETTO:-0400
TZNAME:EDT
DTSTART:20160313T070000
END:DAYLIGHT
BEGIN:STANDARD
TZOFFSETFROM:-0400
TZOFFSETTO:-0500
TZNAME:EST
DTSTART:20161106T060000
END:STANDARD
BEGIN:DAYLIGHT
TZOFFSETFROM:-0500
TZOFFSETTO:-0400
TZNAME:EDT
DTSTART:20170312T070000
END:DAYLIGHT
BEGIN:STANDARD
TZOFFSETFROM:-0400
TZOFFSETTO:-0500
TZNAME:EST
DTSTART:20171105T060000
END:STANDARD
BEGIN:DAYLIGHT
TZOFFSETFROM:-0500
TZOFFSETTO:-0400
TZNAME:EDT
DTSTART:20180311T070000
END:DAYLIGHT
BEGIN:STANDARD
TZOFFSETFROM:-0400
TZOFFSETTO:-0500
TZNAME:EST
DTSTART:20181104T060000
END:STANDARD
BEGIN:DAYLIGHT
TZOFFSETFROM:-0500
TZOFFSETTO:-0400
TZNAME:EDT
DTSTART:20190310T070000
END:DAYLIGHT
BEGIN:STANDARD
TZOFFSETFROM:-0400
TZOFFSETTO:-0500
TZNAME:EST
DTSTART:20191103T060000
END:STANDARD
END:VTIMEZONE
BEGIN:VTIMEZONE
TZID:America/Halifax
BEGIN:DAYLIGHT
TZOFFSETFROM:-0400
TZOFFSETTO:-0300
TZNAME:ADT
DTSTART:20160313T060000
END:DAYLIGHT
BEGIN:STANDARD
TZOFFSETFROM:-0300
TZOFFSETTO:-0400
TZNAME:AST
DTSTART:20161106T050000
END:STANDARD
BEGIN:DAYLIGHT
TZOFFSETFROM:-0400
TZOFFSETTO:-0300
TZNAME:ADT
DTSTART:20170312T060000
END:DAYLIGHT
BEGIN:STANDARD
TZOFFSETFROM:-0300
TZOFFSETTO:-0400
TZNAME:AST
DTSTART:20171105T050000
END:STANDARD
BEGIN:DAYLIGHT
TZOFFSETFROM:-0400
TZOFFSETTO:-0300
TZNAME:ADT
DTSTART:20180311T060000
END:DAYLIGHT
BEGIN:STANDARD
TZOFFSETFROM:-0300
TZOFFSETTO:-0400
TZNAME:AST
DTSTART:20181104T050000
END:STANDARD
END:VTIMEZONE
BEGIN:VEVENT
DTSTART;TZID=America/New_York:20171231T100000
DTEND;TZID=America/New_York:20171231T170000
DTSTAMP:20260421T020233
CREATED:20171221T175647Z
LAST-MODIFIED:20171231T194350Z
UID:1450-1514714400-1514739600@www.artsinmuskoka.com
SUMMARY:45th Parallel Painters: Seasonal Favourites
DESCRIPTION:The 45th Parallel Painters showcase work inspired by Winter in Muskoka.
URL:https://www.artsinmuskoka.com/event/45th-parallel-painters-seasonal-favourites-22/
LOCATION:Muskoka Place Gallery\, 1182 Foreman Rd. Port Carling\, Ontario\, Port Carling\, ON\, P0B 1J0\, Canada
CATEGORIES:Gayle Dempsey,Muskoka Place Gallery
END:VEVENT
BEGIN:VEVENT
DTSTART;TZID=America/New_York:20171230T100000
DTEND;TZID=America/New_York:20171230T170000
DTSTAMP:20260421T020233
CREATED:20171221T180035Z
LAST-MODIFIED:20171230T193744Z
UID:1451-1514628000-1514653200@www.artsinmuskoka.com
SUMMARY:45th Parallel Painters: Seasonal Favourites
DESCRIPTION:The 45th Parallel Painters showcase work inspired by Winter in Muskoka.
URL:https://www.artsinmuskoka.com/event/45th-parallel-painters-seasonal-favourites-23/
LOCATION:Muskoka Place Gallery\, 1182 Foreman Rd. Port Carling\, Ontario\, Port Carling\, ON\, P0B 1J0\, Canada
CATEGORIES:Gayle Dempsey,Muskoka Place Gallery
END:VEVENT
BEGIN:VEVENT
DTSTART;TZID=America/New_York:20171229T100000
DTEND;TZID=America/New_York:20171229T170000
DTSTAMP:20260421T020233
CREATED:20171221T180038Z
LAST-MODIFIED:20171229T190526Z
UID:1452-1514541600-1514566800@www.artsinmuskoka.com
SUMMARY:45th Parallel Painters: Seasonal Favourites
DESCRIPTION:The 45th Parallel Painters showcase work inspired by Winter in Muskoka.
URL:https://www.artsinmuskoka.com/event/45th-parallel-painters-seasonal-favourites-24/
LOCATION:Muskoka Place Gallery\, 1182 Foreman Rd. Port Carling\, Ontario\, Port Carling\, ON\, P0B 1J0\, Canada
CATEGORIES:Gayle Dempsey,Muskoka Place Gallery
END:VEVENT
BEGIN:VEVENT
DTSTART;TZID=America/New_York:20171228T100000
DTEND;TZID=America/New_York:20171228T170000
DTSTAMP:20260421T020233
CREATED:20171221T180043Z
LAST-MODIFIED:20171228T193346Z
UID:1453-1514455200-1514480400@www.artsinmuskoka.com
SUMMARY:45th Parallel Painters: Seasonal Favourites
DESCRIPTION:The 45th Parallel Painters showcase work inspired by Winter in Muskoka.
URL:https://www.artsinmuskoka.com/event/45th-parallel-painters-seasonal-favourites-25/
LOCATION:Muskoka Place Gallery\, 1182 Foreman Rd. Port Carling\, Ontario\, Port Carling\, ON\, P0B 1J0\, Canada
CATEGORIES:Gayle Dempsey,Muskoka Place Gallery
END:VEVENT
BEGIN:VEVENT
DTSTART;TZID=America/New_York:20171227T100000
DTEND;TZID=America/New_York:20171227T170000
DTSTAMP:20260421T020233
CREATED:20171221T180046Z
LAST-MODIFIED:20171227T185336Z
UID:1454-1514368800-1514394000@www.artsinmuskoka.com
SUMMARY:45th Parallel Painters: Seasonal Favourites
DESCRIPTION:The 45th Parallel Painters showcase work inspired by Winter in Muskoka.
URL:https://www.artsinmuskoka.com/event/45th-parallel-painters-seasonal-favourites-26/
LOCATION:Muskoka Place Gallery\, 1182 Foreman Rd. Port Carling\, Ontario\, Port Carling\, ON\, P0B 1J0\, Canada
CATEGORIES:Gayle Dempsey,Muskoka Place Gallery
END:VEVENT
BEGIN:VEVENT
DTSTART;TZID=America/New_York:20171226T100000
DTEND;TZID=America/New_York:20171226T170000
DTSTAMP:20260421T020233
CREATED:20171221T180049Z
LAST-MODIFIED:20171226T184812Z
UID:1455-1514282400-1514307600@www.artsinmuskoka.com
SUMMARY:45th Parallel Painters: Seasonal Favourites
DESCRIPTION:The 45th Parallel Painters showcase work inspired by Winter in Muskoka.
URL:https://www.artsinmuskoka.com/event/45th-parallel-painters-seasonal-favourites-27/
LOCATION:Muskoka Place Gallery\, 1182 Foreman Rd. Port Carling\, Ontario\, Port Carling\, ON\, P0B 1J0\, Canada
CATEGORIES:Gayle Dempsey,Muskoka Place Gallery
END:VEVENT
BEGIN:VEVENT
DTSTART;TZID=America/New_York:20171225T100000
DTEND;TZID=America/New_York:20171225T170000
DTSTAMP:20260421T020233
CREATED:20171221T180123Z
LAST-MODIFIED:20171225T183747Z
UID:1458-1514196000-1514221200@www.artsinmuskoka.com
SUMMARY:45th Parallel Painters: Seasonal Favourites
DESCRIPTION:The 45th Parallel Painters showcase work inspired by Winter in Muskoka.
URL:https://www.artsinmuskoka.com/event/45th-parallel-painters-seasonal-favourites-28/
LOCATION:Muskoka Place Gallery\, 1182 Foreman Rd. Port Carling\, Ontario\, Port Carling\, ON\, P0B 1J0\, Canada
CATEGORIES:Gayle Dempsey,Muskoka Place Gallery
END:VEVENT
BEGIN:VEVENT
DTSTART;TZID=America/New_York:20171224T100000
DTEND;TZID=America/New_York:20171224T170000
DTSTAMP:20260421T020233
CREATED:20171221T180128Z
LAST-MODIFIED:20171224T182617Z
UID:1459-1514109600-1514134800@www.artsinmuskoka.com
SUMMARY:45th Parallel Painters: Seasonal Favourites
DESCRIPTION:The 45th Parallel Painters showcase work inspired by Winter in Muskoka.
URL:https://www.artsinmuskoka.com/event/45th-parallel-painters-seasonal-favourites-29/
LOCATION:Muskoka Place Gallery\, 1182 Foreman Rd. Port Carling\, Ontario\, Port Carling\, ON\, P0B 1J0\, Canada
CATEGORIES:Gayle Dempsey,Muskoka Place Gallery
END:VEVENT
BEGIN:VEVENT
DTSTART;TZID=America/New_York:20171223T100000
DTEND;TZID=America/New_York:20171223T170000
DTSTAMP:20260421T020233
CREATED:20171221T180132Z
LAST-MODIFIED:20171223T181610Z
UID:1460-1514023200-1514048400@www.artsinmuskoka.com
SUMMARY:45th Parallel Painters: Seasonal Favourites
DESCRIPTION:The 45th Parallel Painters showcase work inspired by Winter in Muskoka.
URL:https://www.artsinmuskoka.com/event/45th-parallel-painters-seasonal-favourites-30/
LOCATION:Muskoka Place Gallery\, 1182 Foreman Rd. Port Carling\, Ontario\, Port Carling\, ON\, P0B 1J0\, Canada
CATEGORIES:Gayle Dempsey,Muskoka Place Gallery
END:VEVENT
BEGIN:VEVENT
DTSTART;TZID=America/New_York:20171222T193000
DTEND;TZID=America/New_York:20171222T213000
DTSTAMP:20260421T020233
CREATED:20171129T225348Z
LAST-MODIFIED:20171222T175902Z
UID:1345-1513971000-1513978200@www.artsinmuskoka.com
SUMMARY:Sing-Along Messiah
DESCRIPTION:Start a new holiday tradition by singing this Handel classic along with The Cellar Singers. Your friends and family will love this very special event. Bring your own music or scores will be available to rent for $2. Doors open at 6:45pm. Tickets at 705-764-0191\, http://www.thecellarsingers.com\, the Chancery Lane Co. in Bracebridge\, or at the door.  Adults: $20 Students: $10
URL:https://www.artsinmuskoka.com/event/sing-along-messiah/
LOCATION:Bracebridge United Church\, 46 Dominion St.\, Bracebridge\, ON\, P1L 2A5\, Canada
CATEGORIES:Muskoka Chautauqua
ATTACH;FMTTYPE=image/jpeg:https://www.artsinmuskoka.com/wp-content/uploads/2017/12/45c58e7288519c3db512407a35a49d15.jpg
END:VEVENT
BEGIN:VEVENT
DTSTART;TZID=America/New_York:20171222T163000
DTEND;TZID=America/New_York:20171222T173000
DTSTAMP:20260421T020233
CREATED:20171213T155839Z
LAST-MODIFIED:20171222T175904Z
UID:1399-1513960200-1513963800@www.artsinmuskoka.com
SUMMARY:Flash Mob Caroling
DESCRIPTION:Muskoka Chautauqua presents Flash Mob Caroling featuring the Whispering River Orchestra\, everyone is welcome to celebrate the season while enjoying festive refreshments. Whispering River Music Studio This event is free of charge!
URL:https://www.artsinmuskoka.com/event/flash-mob-caroling-2/
LOCATION:JW Marriott The Rosseau Muskoka Resort & Spa\, 1050 Paignton House Road\, P.O. Box 31\, Muskoka\, ON\, P0B 1G0\, Canada
CATEGORIES:Muskoka Chautauqua
ATTACH;FMTTYPE=image/jpeg:https://www.artsinmuskoka.com/wp-content/uploads/2017/12/0a76e22615029eef8cd9441171989b60.jpg
END:VEVENT
BEGIN:VEVENT
DTSTART;TZID=America/New_York:20171222T100000
DTEND;TZID=America/New_York:20171222T170000
DTSTAMP:20260421T020233
CREATED:20171221T180137Z
LAST-MODIFIED:20171222T181629Z
UID:1461-1513936800-1513962000@www.artsinmuskoka.com
SUMMARY:45th Parallel Painters: Seasonal Favourites
DESCRIPTION:The 45th Parallel Painters showcase work inspired by Winter in Muskoka.
URL:https://www.artsinmuskoka.com/event/45th-parallel-painters-seasonal-favourites-31/
LOCATION:Muskoka Place Gallery\, 1182 Foreman Rd. Port Carling\, Ontario\, Port Carling\, ON\, P0B 1J0\, Canada
CATEGORIES:Gayle Dempsey,Muskoka Place Gallery
END:VEVENT
BEGIN:VEVENT
DTSTART;TZID=America/New_York:20171221T100000
DTEND;TZID=America/New_York:20171221T170000
DTSTAMP:20260421T020233
CREATED:20171221T180141Z
LAST-MODIFIED:20171221T182103Z
UID:1462-1513850400-1513875600@www.artsinmuskoka.com
SUMMARY:45th Parallel Painters: Seasonal Favourites
DESCRIPTION:The 45th Parallel Painters showcase work inspired by Winter in Muskoka.
URL:https://www.artsinmuskoka.com/event/45th-parallel-painters-seasonal-favourites-32/
LOCATION:Muskoka Place Gallery\, 1182 Foreman Rd. Port Carling\, Ontario\, Port Carling\, ON\, P0B 1J0\, Canada
CATEGORIES:Gayle Dempsey,Muskoka Place Gallery
END:VEVENT
BEGIN:VEVENT
DTSTART;TZID=America/New_York:20171216T193000
DTEND;TZID=America/New_York:20171216T213000
DTSTAMP:20260421T020233
CREATED:20171213T155832Z
LAST-MODIFIED:20171217T164150Z
UID:1397-1513452600-1513459800@www.artsinmuskoka.com
SUMMARY:Messiah
DESCRIPTION:Whispering River Music Studio & Riversong Festival Choir present George Frederick Handels Messiah with Artistic & Orchestra Director Brenda Muller.
URL:https://www.artsinmuskoka.com/event/messiah/
LOCATION:St. James Centre for Community\, 24 Mary Street\, Parry Sound\, ON\, P2A 1C9\, Canada
CATEGORIES:Muskoka Chautauqua
ATTACH;FMTTYPE=image/jpeg:https://www.artsinmuskoka.com/wp-content/uploads/2017/12/4de4d5217812e52ab35b06bbf9fb0fbc.jpg
END:VEVENT
BEGIN:VEVENT
DTSTART;TZID=America/New_York:20171210T163000
DTEND;TZID=America/New_York:20171210T173000
DTSTAMP:20260421T020233
CREATED:20171129T225341Z
LAST-MODIFIED:20171211T003537Z
UID:1341-1512923400-1512927000@www.artsinmuskoka.com
SUMMARY:Flash Mob Caroling
DESCRIPTION:Muskoka Chautauqua presents Flash Mob Caroling featuring the Whispering River Orchestra\, everyone is welcome to celebrate the season while enjoying festive refreshments. Whispering River Music Studio
URL:https://www.artsinmuskoka.com/event/flash-mob-caroling/
LOCATION:JW Marriott The Rosseau Muskoka Resort & Spa\, 1050 Paignton House Road\, P.O. Box 31\, Muskoka\, ON\, P0B 1G0\, Canada
CATEGORIES:Muskoka Chautauqua
ATTACH;FMTTYPE=image/jpeg:https://www.artsinmuskoka.com/wp-content/uploads/2017/11/00935c5b42823c64d967cf67a57aba8f.jpg
END:VEVENT
BEGIN:VEVENT
DTSTART;TZID=America/New_York:20171207T100000
DTEND;TZID=America/New_York:20180114T170000
DTSTAMP:20260421T020233
CREATED:20171206T234335Z
LAST-MODIFIED:20171207T234446Z
UID:1372-1512640800-1515949200@www.artsinmuskoka.com
SUMMARY:45th Parallel Painters: Seasonal Favourites
DESCRIPTION:The 45th Parallel Painters showcase work inspired by Winter in Muskoka.
URL:https://www.artsinmuskoka.com/event/45th-parallel-painters-seasonal-favourites/
LOCATION:Muskoka Place Gallery\, 1182 Foreman Rd. Port Carling\, Ontario\, Port Carling\, ON\, P0B 1J0\, Canada
CATEGORIES:Gayle Dempsey,Muskoka Place Gallery
ATTACH;FMTTYPE=image/jpeg:https://www.artsinmuskoka.com/wp-content/uploads/2017/12/a164f84a9bd2b1162906594bd2df0f93-1.jpg
END:VEVENT
BEGIN:VEVENT
DTSTART;TZID=America/New_York:20171125T200000
DTEND;TZID=America/New_York:20171125T230000
DTSTAMP:20260421T020233
CREATED:20170915T223616Z
LAST-MODIFIED:20171126T223428Z
UID:201-1511640000-1511650800@www.artsinmuskoka.com
SUMMARY:Coffee House featuring Bourrée à Trois
DESCRIPTION:Bourrée à Trois Live at the Muskoka Place Gallery. Enjoy an intimate evening of music in Port Carling! Cost is $10 at the door.  Bourrée à Trois
URL:https://www.artsinmuskoka.com/event/coffee-house-featuring-bourree-a-trois/
LOCATION:Muskoka Place Gallery\, 1182 Foreman Rd. Port Carling\, Ontario\, Port Carling\, ON\, P0B 1J0\, Canada
CATEGORIES:Muskoka Chautauqua,Muskoka Place Gallery
ATTACH;FMTTYPE=image/jpeg:https://www.artsinmuskoka.com/wp-content/uploads/2017/11/df4c888ecaf483b30c4c207d310c1d77.jpg
END:VEVENT
BEGIN:VEVENT
DTSTART;TZID=America/New_York:20171105T122500
DTEND;TZID=America/New_York:20171105T142500
DTSTAMP:20260421T020233
CREATED:20171016T213126Z
LAST-MODIFIED:20171105T193915Z
UID:921-1509884700-1509891900@www.artsinmuskoka.com
SUMMARY:Bellini's Norma starring Sondra Radvanovsky
DESCRIPTION:Celebrate International Opera Week with Bellini’s “Norma” starring Sondra Radvanovsky at the Rene Caisse Theatre.
URL:https://www.artsinmuskoka.com/event/bellinis-norma-starring-sondra-radvanovsky/
LOCATION:Rene M Caisse Theatre\, 100 Clearbrook Trail\, Bracebridge\, ON\, P1L 0A3\, Canada
CATEGORIES:Muskoka Chautauqua
ATTACH;FMTTYPE=image/jpeg:https://www.artsinmuskoka.com/wp-content/uploads/2017/11/7d389f371c2d0e2f3d5af20c137b9bf4.jpg
END:VEVENT
BEGIN:VEVENT
DTSTART;TZID=America/Halifax:20171104T193000
DTEND;TZID=America/Halifax:20171104T223000
DTSTAMP:20260421T020233
CREATED:20171006T222025Z
LAST-MODIFIED:20171104T183829Z
UID:701-1509823800-1509834600@www.artsinmuskoka.com
SUMMARY:Billy Bishop Goes To War - Port Carling
DESCRIPTION:Muskoka Chautauqua is proud to partner with Dot The T Productions for this performance of Billy Bishop Goes to War\, a Canadian musical written by John MacLachlan Gray in collaboration with Eric Petersen. It dramatizes the life of Canadian World War 1 fighter pilot Billy Bishop and is one of the most famous and widely produced plays in Canadian theatre history. The play premiered in Vancouver\, British Columbia on Nov 3\, 1978. The original production toured across Canada\, and also was staged in Washington D.C.\, both on Broadway and Off-Broadway in New York City\, at The Edinburgh Festival\, in Los Angeles and at The Comedy Theatre in London England.The play won the Los Angeles Drama Critics’ Award in 1981\, the Floyd S. Chalmers Canadian Play Award in 1982 and the Governor General’s Award for English Drama in 1982. DIRECTED by Joan Bendon and STARRING William Colgate (portraying 18 character roles) and Cameron Gibson (as Piano Player).
URL:https://www.artsinmuskoka.com/event/billy-bishop-goes-to-war-port-carling/
LOCATION:Royal Canadian Legion Branch 529 Port Carling\, 4 Bailey St.\,\, Port Carling\, ON\, P0B 1J0\, Canada
CATEGORIES:Muskoka Chautauqua
ATTACH;FMTTYPE=image/jpeg:https://www.artsinmuskoka.com/wp-content/uploads/2017/10/7b9e86bb899e764b5dac5f068bb5a844.jpg
END:VEVENT
BEGIN:VEVENT
DTSTART;TZID=America/Halifax:20171028T200000
DTEND;TZID=America/Halifax:20171028T230000
DTSTAMP:20260421T020233
CREATED:20170915T223611Z
LAST-MODIFIED:20171028T173926Z
UID:199-1509220800-1509231600@www.artsinmuskoka.com
SUMMARY:Coffee House featuring Storytellers
DESCRIPTION:Storytellers with Lorne Brown\, Marylyn Peringer & Judith Cohen! Enjoy and intimate evening of music at the Muskoka Place Gallery. Cost is $10 at the door.
URL:https://www.artsinmuskoka.com/event/coffee-house-featuring-storytellers/
LOCATION:Muskoka Place Gallery\, 1182 Foreman Rd. Port Carling\, Ontario\, Port Carling\, ON\, P0B 1J0\, Canada
CATEGORIES:Muskoka Chautauqua,Muskoka Place Gallery
ATTACH;FMTTYPE=image/jpeg:https://www.artsinmuskoka.com/wp-content/uploads/2017/10/04350cd36451a98f6e1093dfab8314ea.jpg
END:VEVENT
BEGIN:VEVENT
DTSTART;TZID=America/Halifax:20171013T200000
DTEND;TZID=America/Halifax:20171013T220000
DTSTAMP:20260421T020233
CREATED:20170822T215352Z
LAST-MODIFIED:20171013T185353Z
UID:88-1507924800-1507932000@www.artsinmuskoka.com
SUMMARY:Adi Braun Live
DESCRIPTION:A Cabaret Show with one of Canada’s leading Jazz Vocalists! Show begins at 8:00pm. 705.765.1048 for more details.
URL:https://www.artsinmuskoka.com/event/adi-braun-live-2/
LOCATION:JW Marriott The Rosseau Muskoka Resort & Spa\, 1050 Paignton House Road\, P.O. Box 31\, Muskoka\, ON\, P0B 1G0\, Canada
CATEGORIES:Muskoka Chautauqua
ATTACH;FMTTYPE=image/jpeg:https://www.artsinmuskoka.com/wp-content/uploads/2017/10/34cce8b67d2bce7c7279ca90f376636b.jpg
END:VEVENT
BEGIN:VEVENT
DTSTART;TZID=America/Halifax:20171001T100000
DTEND;TZID=America/Halifax:20171001T150000
DTSTAMP:20260421T020233
CREATED:20170920T210003Z
LAST-MODIFIED:20171001T095232Z
UID:263-1506852000-1506870000@www.artsinmuskoka.com
SUMMARY:Local Colours
DESCRIPTION:Local Colours at the Bethune House in Gravenhurst is an Ontario Culture Days event happening October 1st from 10am-3pm. Guests can expect art\, music and demonstrations by local Muskoka artists and musicians.
URL:https://www.artsinmuskoka.com/event/local-colours/
LOCATION:Bethune Memorial House\, 297 John-St.-N\, Gravenhurst\, ON\, P1P 1G4\, Canada
ATTACH;FMTTYPE=image/jpeg:https://www.artsinmuskoka.com/wp-content/uploads/2017/09/7730092b05a4262b8e64465b40eb382c.jpg
END:VEVENT
BEGIN:VEVENT
DTSTART;TZID=America/Halifax:20170930T200000
DTEND;TZID=America/Halifax:20170930T223000
DTSTAMP:20260421T020233
CREATED:20170915T223600Z
LAST-MODIFIED:20170930T082749Z
UID:196-1506801600-1506810600@www.artsinmuskoka.com
SUMMARY:Coffee House featuring Errol Blackwood & Jamie Sherman
DESCRIPTION:Beverlie Robertson’s CD release party with great guitarist Jamie Sherman & reggae master Errol Blackwood/Injahband! An intimate evening of music at the Muskoka Place Gallery in Port Carling. Cost is $20 at the door.
URL:https://www.artsinmuskoka.com/event/coffee-house-featuring-errol-blackwood-jamie-sherman/
LOCATION:Muskoka Place Gallery\, 1182 Foreman Rd. Port Carling\, Ontario\, Port Carling\, ON\, P0B 1J0\, Canada
ATTACH;FMTTYPE=image/jpeg:https://www.artsinmuskoka.com/wp-content/uploads/2017/09/1844918b008ca41d591d962485493682.jpg
END:VEVENT
BEGIN:VEVENT
DTSTART;TZID=America/Halifax:20170830T180000
DTEND;TZID=America/Halifax:20170830T193000
DTSTAMP:20260421T020233
CREATED:20170822T215340Z
LAST-MODIFIED:20170822T215340Z
UID:82-1504116000-1504121400@www.artsinmuskoka.com
SUMMARY:Art Party with Jennifer Murphy
DESCRIPTION:Jennifer has been teaching both children and adults\, beginners and experienced\, since 1995. Her focus is upon observation and technique.  It has been said that you can’t ‘teach art’ because we are all innately creative.  She offers the techniques necessary to engage that creativity and to see as an artist sees.  Jennifer shows her work in local and regional galleries and sells internationally. Come enjoy an art party with Jennifer in the gazebo by the water at Clevelands House. $35 per person.
URL:https://www.artsinmuskoka.com/event/art-party-with-jennifer-murphy-2/
LOCATION:Clevelands House Resort\, 1040 Juddhaven Road\, Muskoka\, ON\, P0B 1G0\, Canada
ATTACH;FMTTYPE=image/jpeg:https://www.artsinmuskoka.com/wp-content/uploads/2017/08/7f375f8fe5faa8594ebcac15c1e4a9f5-1.jpg
END:VEVENT
BEGIN:VEVENT
DTSTART;TZID=America/Halifax:20170827T100000
DTEND;TZID=America/Halifax:20170827T160000
DTSTAMP:20260421T020233
CREATED:20170822T215331Z
LAST-MODIFIED:20170822T215331Z
UID:78-1503828000-1503849600@www.artsinmuskoka.com
SUMMARY:The Body's Eye: Authentic Movement for Artists
DESCRIPTION:Authentic Movement is an expressive\, improvisational movement practice that allows artists to tune in to inner impulses with eyes closed in front of a witness. Movers explore spontaneous gestures\, movements or stillness following impulses in present moment. The result is access to a world of creative potential. No previous experience is needed. Everyone moves at their own pace. The space is non-judgmental and supportive. Even inner judges receive help if they begin to take over.\nPrice: $65\nAudrey Jolly MA RP is an interdisciplinary artist. She has studied movement for over 50 years\, authentic movement for over 12. She has her Masters in psychology and movement from York University and uses creativity and movement in her body-centered psychotherapy practice in Toronto. Audrey exhibits as a painter and performer yearly and is currently writing a book on creativity and healing.
URL:https://www.artsinmuskoka.com/event/the-bodys-eye-authentic-movement-for-artists-2/
LOCATION:Muskoka Place Gallery\, 1182 Foreman Rd. Port Carling\, Ontario\, Port Carling\, ON\, P0B 1J0\, Canada
ATTACH;FMTTYPE=image/jpeg:https://www.artsinmuskoka.com/wp-content/uploads/2017/08/f387d7077c01fb15389f4ee1e2c3031b-1.jpg
END:VEVENT
BEGIN:VEVENT
DTSTART;TZID=America/Halifax:20170826T100000
DTEND;TZID=America/Halifax:20170826T160000
DTSTAMP:20260421T020233
CREATED:20170822T215323Z
LAST-MODIFIED:20170822T215323Z
UID:74-1503741600-1503763200@www.artsinmuskoka.com
SUMMARY:Write for Your Life: A Workshop on Memoir Writing
DESCRIPTION:Price: $65\nMaterial covered will include:\nthe difference between an autobiography and a memoir\nhow to determine your readership\na format for accessing your memories\nthe difference between the creative and the editorial process\nseveral interactive exercises\nhow to organize your work into a finished presentation for your family\, an agent or a publisher\na series of take-home exercises to keep up the momentum gained in this workshop\nNo experience necessary!\nSusan Lynn Reynolds is a writer\, teacher and practicing psychotherapist. She teaches writing through workshops in the community\, in college continuing education programs\, and in social services settings. She writes and has won awards for her YA novel\, short stories\, poems and non-fiction.
URL:https://www.artsinmuskoka.com/event/write-for-your-life-a-workshop-on-memoir-writing-2/
LOCATION:Muskoka Place Gallery\, 1182 Foreman Rd. Port Carling\, Ontario\, Port Carling\, ON\, P0B 1J0\, Canada
ATTACH;FMTTYPE=image/jpeg:https://www.artsinmuskoka.com/wp-content/uploads/2017/08/91a5dbfe55a2bc1270c4c768dd1f5a9a-1.jpg
END:VEVENT
BEGIN:VEVENT
DTSTART;TZID=America/Halifax:20170825T220000
DTEND;TZID=America/Halifax:20170826T040000
DTSTAMP:20260421T020233
CREATED:20170822T215315Z
LAST-MODIFIED:20170822T215315Z
UID:70-1503698400-1503720000@www.artsinmuskoka.com
SUMMARY:Harp Masterclasses
DESCRIPTION:Nestled in beautiful Muskoka\, Port Carling provides the perfect setting to learn the harp and new skills to inspire your use of the harp.\nInternational harp instructor\, Michael-David\, invites you to take a day away to relax and explore the role of the harp.\nA registration fee of $100 includes:\n– Hands-on interactive workshops\n– Interactive Harp Circle with an emphasis on improvisation\n– Exploration of chord stylings and modes and ethnic scales\n– Tea\, coffee\, muffins \nThose wishing to view the event can pay $10 for an audience ticket.\nFor More Information call: 570-506-8424\nemail: michael@michael-david.org\nTo find out more about the ministry of Michael-David visit:\nhttp://www.michael-david.org
URL:https://www.artsinmuskoka.com/event/harp-masterclasses-2/
LOCATION:Muskoka Place Gallery\, 1182 Foreman Rd. Port Carling\, Ontario\, Port Carling\, ON\, P0B 1J0\, Canada
ATTACH;FMTTYPE=image/jpeg:https://www.artsinmuskoka.com/wp-content/uploads/2017/08/9ddcaaa9ee45069fc6f67edcb34dd745-1.jpg
END:VEVENT
BEGIN:VEVENT
DTSTART;TZID=America/Halifax:20170825T193000
DTEND;TZID=America/Halifax:20170825T213000
DTSTAMP:20260421T020233
CREATED:20170822T215306Z
LAST-MODIFIED:20170825T203122Z
UID:67-1503689400-1503696600@www.artsinmuskoka.com
SUMMARY:Harp and Literary Salon
DESCRIPTION:Join us for a delightful evening of literary delights accompanied by the ethereal sounds of the Harp. Price is $10. Tickets also available at the door\, or by contacting 705.765.1048 | marketing@muskokachautauqua.ca
URL:https://www.artsinmuskoka.com/event/harp-and-literary-salon/
LOCATION:Muskoka Place Gallery\, 1182 Foreman Rd. Port Carling\, Ontario\, Port Carling\, ON\, P0B 1J0\, Canada
ATTACH;FMTTYPE=image/jpeg:https://www.artsinmuskoka.com/wp-content/uploads/2017/08/2b0bd55f939059b06abfcfefe6fe2a48.jpg
END:VEVENT
BEGIN:VEVENT
DTSTART;TZID=America/Halifax:20170824T193000
DTEND;TZID=America/Halifax:20170824T213000
DTSTAMP:20260421T020233
CREATED:20170822T215258Z
LAST-MODIFIED:20170824T001143Z
UID:64-1503603000-1503610200@www.artsinmuskoka.com
SUMMARY:Jennifer Tung in Concert
DESCRIPTION:Jennifer’s concert will invite outstanding local singers who have achieved a level of excellence in her Vocal Masterclass to join her evening concert.\nPrice: $25\nJennifer Tung\, currently the vocal department coordinator\, vocal coach and faculty of the Glenn Gould School of the Royal Conservatory of Music in Toronto\, Jennifer is one of the most sought after collaborative pianist\, teacher and soprano in Ontario. Having received a Bachelor of Music in Vocal Performance and a Master of Music in Piano Accompanying and Chamber Music from the world renowned Eastman School of Music\, Jennifer’s versatility has allowed her career to develop in very unique ways. As a singer\, she has collaborated with the Hong Kong Philharmonic Orchestra\, St. Paul’s Festival Orchestra\, Rochester Chanber Orchestra\, Toronto Sinfonietta\, Mississauga Symphony Orchestra to name a few. \nPassionate fort the art of recital as both a singer and a collaborative pianist\, Jennifer has performed recitals across North America and around the world from Toronto\, Chicago\, Los Angeles\, Malibu\, Waimea (Hawaii) to Alderburgh and Hong Kong. An advocate of contemporary music\, she was appointed as the repetiteur and pianist for the inaugural season of the Tapestry New Opera Studio. She has also worked closely with renowned contemporary composers such as Tom Cipullo\, Ricky Ian Gordon\, John Harbisonl Jake Heggie\, Ben Moore and John Musto. As a vocal coach\, Jennifer has served as music director for Toronto’s Summer Opera Lyric Theatre and has directed Mozart’s Don Giovanni\, Die Zaubeflote\, Le Nozze di Figaro\, Verdi’s La Traviata and Offenbach’s La Vie Parisienne and has worked with world renowned collaborative pianists such as Margo Garette\, Graham Johnson\, Martin Kratz and Roger Vignoles. She has presented master classes in Toronto\, Los Angeles\, Riverside and Irvine and has severed on faculty in summer programs across North America and in Europe such as Hawaii Performing Arts Festival and Vianden Music Festival in Luxemberg. She is currently the Director of the Intern Program for Songfest@Colburn in Los Angeles.
URL:https://www.artsinmuskoka.com/event/jennifer-tung-in-concert/
LOCATION:Glenwood Chapel\, 4060 Muskoka Rd 118 West\, Port Carling\, ON\, P0B 1J0\, Canada
ATTACH;FMTTYPE=image/jpeg:https://www.artsinmuskoka.com/wp-content/uploads/2017/08/b13ada772bf53308e0355b14c7ae7c2e.jpg
END:VEVENT
BEGIN:VEVENT
DTSTART;TZID=America/Halifax:20170823T193000
DTEND;TZID=America/Halifax:20170823T223000
DTSTAMP:20260421T020233
CREATED:20170822T215253Z
LAST-MODIFIED:20170824T001141Z
UID:61-1503516600-1503527400@www.artsinmuskoka.com
SUMMARY:Stars of Tomorrow
DESCRIPTION:Young local singers and their accompanists join us again to celebrate their talent. This is always a very popular event\, giving audiences a chance to see performers who are just on the cusp of breaking through\,” says Diane Adamson\, chair of the OperaMuskoka Festival. Bracebridge’s own Daevyd Pepper will be among the performers this year.\nPrice: $30
URL:https://www.artsinmuskoka.com/event/stars-of-tomorrow/
LOCATION:Rene M Caisse Theatre\, 100 Clearbrook Trail\, Bracebridge\, ON\, P1L 0A3\, Canada
ATTACH;FMTTYPE=image/jpeg:https://www.artsinmuskoka.com/wp-content/uploads/2017/08/569a407d50f7fbacfdc7d3931c029ec3.jpg
END:VEVENT
END:VCALENDAR